BEGIN:VCALENDAR
VERSION:2.0
PRODID:-//Squarespace Inc/Squarespace 6//v6//EN
BEGIN:VEVENT
UID:5d50df552cf86f000109e6d2@squarespace.com
DTSTAMP:20190812T035219Z
DTSTART:20190831T220000Z
DTEND:20190901T050000Z
SUMMARY:Father's Day
END:VEVENT
END:VCALENDAR
